BEGIN:VCALENDAR
VERSION:2.0
PRODID:-//Contratero//ES
CALSCALE:GREGORIAN
METHOD:PUBLISH
BEGIN:VEVENT
UID:SUM-03/25 MC@contratero.es
DTSTAMP:20260423T071310Z
DTSTART:20241125T235959
DTEND:20241126T005959
SUMMARY:Cierre: Suministro adquisición del software TOAD FOR ORACL
DESCRIPTION:Suministro adquisición del software TOAD FOR ORACLE para la Universidad Politécnica de Madrid.\\n\\nOrganismo: Rectorado de la Universidad Politécnica de Madrid\\n\\nVer en Contratero: https://contratero.es/contracts/SUM-03/25 MC
URL:https://contratero.es/contracts/SUM-03/25 MC
STATUS:CONFIRMED
BEGIN:VALARM
TRIGGER:-P1D
ACTION:DISPLAY
DESCRIPTION:Recordatorio: Suministro adquisición del sof
END:VALARM
END:VEVENT
END:VCALENDAR